BEGIN:VCALENDAR
VERSION:2.0
PRODID:-//wp-events-plugin.com//7.2.2.1//EN
TZID:Europe/Rome
X-WR-TIMEZONE:Europe/Rome
BEGIN:VEVENT
UID:141@italiatrek.it
DTSTART;TZID=Europe/Rome:20151113T210000
DTEND;TZID=Europe/Rome:20151113T210000
DTSTAMP:20151109T105351Z
URL:https://italiatrek.it/eventi/suoni-dal-monviso-2/
SUMMARY:Suoni dal Monviso
DESCRIPTION:La lunga stagione 2015 di Suoni dal Monviso sta per offrire i s
 uoi due ultimi appuntamenti. Il seguitissimo cartellone preparato dai Poli
 fonici del Marchesato sta per regalare le ultime due “perle”. Il primo
  concerto è in programma venerdì 13 novemb
ATTACH;FMTTYPE=image/jpeg:https://italiatrek.it/wp-content/uploads/2015/11
 /small_2015104163856.jpg
CATEGORIES:Musica
LOCATION:Costigliole Saluzzo\, Costigliole Saluzzo\, Costigliole Saluzzo\, 
 Italia
GEO:44.5647083;7.48461599999996
X-APPLE-STRUCTURED-LOCATION;VALUE=URI;X-ADDRESS=Costigliole Saluzzo\, Costi
 gliole Saluzzo\, Italia;X-APPLE-RADIUS=100;X-TITLE=Costigliole Saluzzo:geo
 :44.5647083,7.48461599999996
END:VEVENT
BEGIN:VTIMEZONE
TZID:Europe/Rome
X-LIC-LOCATION:Europe/Rome
BEGIN:STANDARD
DTSTART:20151025T020000
TZOFFSETFROM:+0200
TZOFFSETTO:+0100
TZNAME:CET
END:STANDARD
END:VTIMEZONE
END:VCALENDAR