BEGIN:VCALENDAR
VERSION:2.0
PRODID:-//wp-events-plugin.com//7.2.2.1//EN
TZID:Europe/Rome
X-WR-TIMEZONE:Europe/Rome
BEGIN:VEVENT
UID:78@italiatrek.it
DTSTART;TZID=Europe/Rome:20151025T100000
DTEND;TZID=Europe/Rome:20151025T170000
DTSTAMP:20151014T223321Z
URL:https://italiatrek.it/eventi/ambientarte-in-ostiglia-prima-edizione/
SUMMARY:AmbientArte in Ostiglia! Prima edizione
DESCRIPTION:Santa Cristina di Quinto - zona Oasi di Cervara D Domenica 25 O
 ttobre la Pro Loco di Quinto di Treviso in collaborazione con l'Ente Parco
  Naturale Regionale del fiume Sile\, l'Amministrazione Comunale e l'Oasi N
 aturalistica del Mulino di Cervara organiz
ATTACH;FMTTYPE=image/jpeg:https://italiatrek.it/wp-content/uploads/2015/10
 /ambientart.jpg
CATEGORIES:Escursioni
LOCATION:Santa Cristina di Quinto\, Santa Cristina di Quinto\, Santa Cristi
 na di Quinto\, Italia
GEO:45.64344;12.136244000000033
X-APPLE-STRUCTURED-LOCATION;VALUE=URI;X-ADDRESS=Santa Cristina di Quinto\, 
 Santa Cristina di Quinto\, Italia;X-APPLE-RADIUS=100;X-TITLE=Santa Cristin
 a di Quinto:geo:45.64344,12.136244000000033
END:VEVENT
BEGIN:VTIMEZONE
TZID:Europe/Rome
X-LIC-LOCATION:Europe/Rome
BEGIN:STANDARD
DTSTART:20151025T020000
TZOFFSETFROM:+0200
TZOFFSETTO:+0100
TZNAME:CET
END:STANDARD
END:VTIMEZONE
END:VCALENDAR